BEGIN:VCALENDAR
VERSION:2.0
X-WR-CALNAME: Sonata Arctica
PRODID:GIGPRESS 2.0 WORDPRESS PLUGIN
CALSCALE:GREGORIAN
X-WR-TIMEZONE:Etc/GMT
METHOD:PUBLISH
BEGIN:VTIMEZONE
TZID:GMT
BEGIN:STANDARD
DTSTART:20071028T010000
TZOFFSETTO:+0000
TZOFFSETFROM:+0000
END:STANDARD
END:VTIMEZONE
BEGIN:VEVENT
SUMMARY:Sonata Arctica at Orion Live Club
DESCRIPTION:Tour: Sonata Arctica 30th Anniversay l Support: Alterium.
LOCATION:Orion Live Club\, Rome\, IT
UID:20260423T160000Z-27213-orhansemih16@gmail.com
URL:https://dragon-productions.eu
DTSTART;VALUE=DATE-TIME;TZID=GMT:20260423T160000Z
DTEND;VALUE=DATE-TIME;TZID=GMT:20260423T160000Z
DTSTAMP:20260420T123031Z
END:VEVENT
BEGIN:VEVENT
SUMMARY:Sonata Arctica at Live Club
DESCRIPTION:Tour: Sonata Arctica 30th Anniversay l Support: Alterium.
LOCATION:Live Club\, Milan\, IT
UID:20260424T160000Z-27214-orhansemih16@gmail.com
URL:https://dragon-productions.eu
DTSTART;VALUE=DATE-TIME;TZID=GMT:20260424T160000Z
DTEND;VALUE=DATE-TIME;TZID=GMT:20260424T160000Z
DTSTAMP:20260420T123031Z
END:VEVENT
BEGIN:VEVENT
SUMMARY:Sonata Arctica at Graspop Metal Meeting
DESCRIPTION:
LOCATION:Graspop Metal Meeting\, Dessel\, BE
UID:20260618T160000Z-27271-orhansemih16@gmail.com
URL:https://dragon-productions.eu
DTSTART;VALUE=DATE-TIME;TZID=GMT:20260618T160000Z
DTEND;VALUE=DATE-TIME;TZID=GMT:20260621T160000Z
DTSTAMP:20260420T123031Z
END:VEVENT
BEGIN:VEVENT
SUMMARY:Sonata Arctica at Fezen Fest
DESCRIPTION:
LOCATION:Fezen Fest\, Székesfehévár\, HU
UID:20260619T160000Z-27288-orhansemih16@gmail.com
URL:https://dragon-productions.eu
DTSTART;VALUE=DATE-TIME;TZID=GMT:20260619T160000Z
DTEND;VALUE=DATE-TIME;TZID=GMT:20260619T160000Z
DTSTAMP:20260420T123031Z
END:VEVENT
BEGIN:VEVENT
SUMMARY:Sonata Arctica at Arsenal Fest Kragujevac
DESCRIPTION:
LOCATION:Arsenal Fest Kragujevac\, Kragujevac\, RS
UID:20260625T000000Z-27467-orhansemih16@gmail.com
URL:https://dragon-productions.eu
DTSTART;VALUE=DATE-TIME;TZID=GMT:20260625T000000Z
DTEND;VALUE=DATE-TIME;TZID=GMT:20260625T000000Z
DTSTAMP:20260420T123031Z
END:VEVENT
BEGIN:VEVENT
SUMMARY:Sonata Arctica at RockPodKamenom Festival
DESCRIPTION:
LOCATION:RockPodKamenom Festival\, Snina\, SK
UID:20260626T160000Z-27146-orhansemih16@gmail.com
URL:https://dragon-productions.eu
DTSTART;VALUE=DATE-TIME;TZID=GMT:20260626T160000Z
DTEND;VALUE=DATE-TIME;TZID=GMT:20260626T160000Z
DTSTAMP:20260420T123031Z
END:VEVENT
BEGIN:VEVENT
SUMMARY:Sonata Arctica at Rvbang Festival
DESCRIPTION:
LOCATION:Rvbang Festival\, Balingen\, DE
UID:20260709T160000Z-27109-orhansemih16@gmail.com
URL:https://dragon-productions.eu
DTSTART;VALUE=DATE-TIME;TZID=GMT:20260709T160000Z
DTEND;VALUE=DATE-TIME;TZID=GMT:20260711T160000Z
DTSTAMP:20260420T123031Z
END:VEVENT
BEGIN:VEVENT
SUMMARY:Sonata Arctica at Rock Castle
DESCRIPTION:
LOCATION:Rock Castle\, Moravsky Krumlov\, CZ
UID:20260813T160000Z-27156-orhansemih16@gmail.com
URL:https://dragon-productions.eu
DTSTART;VALUE=DATE-TIME;TZID=GMT:20260813T160000Z
DTEND;VALUE=DATE-TIME;TZID=GMT:20260813T160000Z
DTSTAMP:20260420T123031Z
END:VEVENT
END:VCALENDAR