BEGIN:VCALENDAR
VERSION:2.0
X-WR-CALNAME: Ambush
PRODID:GIGPRESS 2.0 WORDPRESS PLUGIN
CALSCALE:GREGORIAN
X-WR-TIMEZONE:Etc/GMT
METHOD:PUBLISH
BEGIN:VTIMEZONE
TZID:GMT
BEGIN:STANDARD
DTSTART:20071028T010000
TZOFFSETTO:+0000
TZOFFSETFROM:+0000
END:STANDARD
END:VTIMEZONE
BEGIN:VEVENT
SUMMARY:Ambush at Bangers Open Air
DESCRIPTION:
LOCATION:Bangers Open Air\, Sao Paulo\, BR
UID:20260426T000000Z-27494-orhansemih16@gmail.com
URL:https://dragon-productions.eu
DTSTART;VALUE=DATE-TIME;TZID=GMT:20260426T000000Z
DTEND;VALUE=DATE-TIME;TZID=GMT:20260426T000000Z
DTSTAMP:20260422T121250Z
END:VEVENT
BEGIN:VEVENT
SUMMARY:Ambush at Karmøygeddon Metal Festival
DESCRIPTION:
LOCATION:Karmøygeddon Metal Festival\, Kopervik\, NO
UID:20260502T000000Z-27495-orhansemih16@gmail.com
URL:https://dragon-productions.eu
DTSTART;VALUE=DATE-TIME;TZID=GMT:20260502T000000Z
DTEND;VALUE=DATE-TIME;TZID=GMT:20260502T000000Z
DTSTAMP:20260422T121250Z
END:VEVENT
BEGIN:VEVENT
SUMMARY:Ambush at Sweden Rock Festival
DESCRIPTION:
LOCATION:Sweden Rock Festival\, Sölvesborg\, SE
UID:20260605T000000Z-27496-orhansemih16@gmail.com
URL:https://dragon-productions.eu
DTSTART;VALUE=DATE-TIME;TZID=GMT:20260605T000000Z
DTEND;VALUE=DATE-TIME;TZID=GMT:20260605T000000Z
DTSTAMP:20260422T121250Z
END:VEVENT
BEGIN:VEVENT
SUMMARY:Ambush at MammothFest
DESCRIPTION:
LOCATION:MammothFest\, Thessaloniki\, GR
UID:20260613T000000Z-27497-orhansemih16@gmail.com
URL:https://dragon-productions.eu
DTSTART;VALUE=DATE-TIME;TZID=GMT:20260613T000000Z
DTEND;VALUE=DATE-TIME;TZID=GMT:20260613T000000Z
DTSTAMP:20260422T121250Z
END:VEVENT
BEGIN:VEVENT
SUMMARY:Ambush at Rvbang Festival
DESCRIPTION:
LOCATION:Rvbang Festival\, Balingen\, DE
UID:20260710T000000Z-27498-orhansemih16@gmail.com
URL:https://dragon-productions.eu
DTSTART;VALUE=DATE-TIME;TZID=GMT:20260710T000000Z
DTEND;VALUE=DATE-TIME;TZID=GMT:20260710T000000Z
DTSTAMP:20260422T121250Z
END:VEVENT
BEGIN:VEVENT
SUMMARY:Ambush at Headbanger's Open Air
DESCRIPTION:
LOCATION:Headbanger's Open Air\, Brande-Hörnerkirchen\, DE
UID:20260725T000000Z-27499-orhansemih16@gmail.com
URL:https://dragon-productions.eu
DTSTART;VALUE=DATE-TIME;TZID=GMT:20260725T000000Z
DTEND;VALUE=DATE-TIME;TZID=GMT:20260725T000000Z
DTSTAMP:20260422T121250Z
END:VEVENT
BEGIN:VEVENT
SUMMARY:Ambush at Næstved Metalfest
DESCRIPTION:
LOCATION:Næstved Metalfest\, Næstved\, DK
UID:20260827T160000Z-27216-orhansemih16@gmail.com
URL:https://dragon-productions.eu
DTSTART;VALUE=DATE-TIME;TZID=GMT:20260827T160000Z
DTEND;VALUE=DATE-TIME;TZID=GMT:20260829T160000Z
DTSTAMP:20260422T121250Z
END:VEVENT
BEGIN:VEVENT
SUMMARY:Ambush at Storm Crusher Festival
DESCRIPTION:
LOCATION:Storm Crusher Festival\, Püchersreuth\, DE
UID:20260911T000000Z-27500-orhansemih16@gmail.com
URL:https://dragon-productions.eu
DTSTART;VALUE=DATE-TIME;TZID=GMT:20260911T000000Z
DTEND;VALUE=DATE-TIME;TZID=GMT:20260911T000000Z
DTSTAMP:20260422T121250Z
END:VEVENT
BEGIN:VEVENT
SUMMARY:Ambush at Rising Fest
DESCRIPTION:
LOCATION:Rising Fest\, Longvic\, FR
UID:20261009T160000Z-27274-orhansemih16@gmail.com
URL:https://dragon-productions.eu
DTSTART;VALUE=DATE-TIME;TZID=GMT:20261009T160000Z
DTEND;VALUE=DATE-TIME;TZID=GMT:20261009T160000Z
DTSTAMP:20260422T121250Z
END:VEVENT
BEGIN:VEVENT
SUMMARY:Ambush at Full Metal Holiday
DESCRIPTION:
LOCATION:Full Metal Holiday\, Mallorca\, ES
UID:20261020T000000Z-27462-orhansemih16@gmail.com
URL:https://dragon-productions.eu
DTSTART;VALUE=DATE-TIME;TZID=GMT:20261020T000000Z
DTEND;VALUE=DATE-TIME;TZID=GMT:20261027T010000Z
DTSTAMP:20260422T121250Z
END:VEVENT
BEGIN:VEVENT
SUMMARY:Ambush at Mediterranea Metal Cruise
DESCRIPTION:
LOCATION:Mediterranea Metal Cruise\, Athens\, GR
UID:20261102T010000Z-27501-orhansemih16@gmail.com
URL:https://dragon-productions.eu
DTSTART;VALUE=DATE-TIME;TZID=GMT:20261102T010000Z
DTEND;VALUE=DATE-TIME;TZID=GMT:20261106T010000Z
DTSTAMP:20260422T121250Z
END:VEVENT
BEGIN:VEVENT
SUMMARY:Ambush at Metal Forces Festival
DESCRIPTION:
LOCATION:Metal Forces Festival\, Hamburg\, DE
UID:20261205T170000Z-27260-orhansemih16@gmail.com
URL:https://dragon-productions.eu
DTSTART;VALUE=DATE-TIME;TZID=GMT:20261205T170000Z
DTEND;VALUE=DATE-TIME;TZID=GMT:20261205T170000Z
DTSTAMP:20260422T121250Z
END:VEVENT
END:VCALENDAR