BEGIN:VCALENDAR
VERSION:2.0
X-WR-CALNAME: Wytch Hazel
PRODID:GIGPRESS 2.0 WORDPRESS PLUGIN
CALSCALE:GREGORIAN
X-WR-TIMEZONE:Etc/GMT
METHOD:PUBLISH
BEGIN:VTIMEZONE
TZID:GMT
BEGIN:STANDARD
DTSTART:20071028T010000
TZOFFSETTO:+0000
TZOFFSETFROM:+0000
END:STANDARD
END:VTIMEZONE
BEGIN:VEVENT
SUMMARY:Wytch Hazel at Mosh im Mai
DESCRIPTION:Tour: 'Heaven & Spell Tour' Tour 2026 l Special Guests: Phantom Spell.
LOCATION:Mosh im Mai\, Kiel\, DE
UID:20260424T160000Z-27196-orhansemih16@gmail.com
URL:https://dragon-productions.eu
DTSTART;VALUE=DATE-TIME;TZID=GMT:20260424T160000Z
DTEND;VALUE=DATE-TIME;TZID=GMT:20260424T160000Z
DTSTAMP:20260423T110658Z
END:VEVENT
BEGIN:VEVENT
SUMMARY:Wytch Hazel at Little Devil
DESCRIPTION:Tour: 'Heaven & Spell Tour' Tour 2026 l Special Guests: Phantom Spell.
LOCATION:Little Devil\, Tilburg\, NL
UID:20260425T160000Z-27198-orhansemih16@gmail.com
URL:https://dragon-productions.eu
DTSTART;VALUE=DATE-TIME;TZID=GMT:20260425T160000Z
DTEND;VALUE=DATE-TIME;TZID=GMT:20260425T160000Z
DTSTAMP:20260423T110658Z
END:VEVENT
BEGIN:VEVENT
SUMMARY:Wytch Hazel at steel over the solent
DESCRIPTION:
LOCATION:steel over the solent\, Portsmouth\, UK
UID:20260502T160000Z-27140-orhansemih16@gmail.com
URL:https://dragon-productions.eu
DTSTART;VALUE=DATE-TIME;TZID=GMT:20260502T160000Z
DTEND;VALUE=DATE-TIME;TZID=GMT:20260502T160000Z
DTSTAMP:20260423T110658Z
END:VEVENT
BEGIN:VEVENT
SUMMARY:Wytch Hazel at Kapu
DESCRIPTION:
LOCATION:Kapu\, Linz\, CH
UID:20260508T160000Z-27030-orhansemih16@gmail.com
URL:https://dragon-productions.eu
DTSTART;VALUE=DATE-TIME;TZID=GMT:20260508T160000Z
DTEND;VALUE=DATE-TIME;TZID=GMT:20260508T160000Z
DTSTAMP:20260423T110658Z
END:VEVENT
BEGIN:VEVENT
SUMMARY:Wytch Hazel at Schlachthof
DESCRIPTION:
LOCATION:Schlachthof\, Wels\, AT
UID:20260509T160000Z-27031-orhansemih16@gmail.com
URL:https://dragon-productions.eu
DTSTART;VALUE=DATE-TIME;TZID=GMT:20260509T160000Z
DTEND;VALUE=DATE-TIME;TZID=GMT:20260509T160000Z
DTSTAMP:20260423T110658Z
END:VEVENT
BEGIN:VEVENT
SUMMARY:Wytch Hazel at Wacken Open Air
DESCRIPTION:
LOCATION:Wacken Open Air\, Wacken\, DE
UID:20260729T000000Z-27482-orhansemih16@gmail.com
URL:https://dragon-productions.eu
DTSTART;VALUE=DATE-TIME;TZID=GMT:20260729T000000Z
DTEND;VALUE=DATE-TIME;TZID=GMT:20260801T000000Z
DTSTAMP:20260423T110658Z
END:VEVENT
BEGIN:VEVENT
SUMMARY:Wytch Hazel at Raismes Fest
DESCRIPTION:
LOCATION:Raismes Fest\, Raismes\, FR
UID:20260912T000000Z-27417-orhansemih16@gmail.com
URL:https://dragon-productions.eu
DTSTART;VALUE=DATE-TIME;TZID=GMT:20260912T000000Z
DTEND;VALUE=DATE-TIME;TZID=GMT:20260912T000000Z
DTSTAMP:20260423T110658Z
END:VEVENT
BEGIN:VEVENT
SUMMARY:Wytch Hazel at Brainstorm Festival
DESCRIPTION:
LOCATION:Brainstorm Festival\, Apeldoorn\, NL
UID:20261106T170000Z-27297-orhansemih16@gmail.com
URL:https://dragon-productions.eu
DTSTART;VALUE=DATE-TIME;TZID=GMT:20261106T170000Z
DTEND;VALUE=DATE-TIME;TZID=GMT:20261106T170000Z
DTSTAMP:20260423T110658Z
END:VEVENT
BEGIN:VEVENT
SUMMARY:Wytch Hazel at Blast of Eternity
DESCRIPTION:
LOCATION:Blast of Eternity\, Heilbronn\, DE
UID:20261107T010000Z-27523-orhansemih16@gmail.com
URL:https://dragon-productions.eu
DTSTART;VALUE=DATE-TIME;TZID=GMT:20261107T010000Z
DTEND;VALUE=DATE-TIME;TZID=GMT:20261107T010000Z
DTSTAMP:20260423T110658Z
END:VEVENT
END:VCALENDAR