BEGIN:VCALENDAR
VERSION:2.0
X-WR-CALNAME: Grave
PRODID:GIGPRESS 2.0 WORDPRESS PLUGIN
CALSCALE:GREGORIAN
X-WR-TIMEZONE:Etc/GMT
METHOD:PUBLISH
BEGIN:VTIMEZONE
TZID:GMT
BEGIN:STANDARD
DTSTART:20071028T010000
TZOFFSETTO:+0000
TZOFFSETFROM:+0000
END:STANDARD
END:VTIMEZONE
BEGIN:VEVENT
SUMMARY:Grave at Incineration Fest
DESCRIPTION:
LOCATION:Incineration Fest\, London\, UK
UID:20260502T000000Z-27396-orhansemih16@gmail.com
URL:https://dragon-productions.eu
DTSTART;VALUE=DATE-TIME;TZID=GMT:20260502T000000Z
DTEND;VALUE=DATE-TIME;TZID=GMT:20260502T000000Z
DTSTAMP:20260420T123215Z
END:VEVENT
BEGIN:VEVENT
SUMMARY:Grave at San Luis Metal Fest
DESCRIPTION:
LOCATION:San Luis Metal Fest\, San Luis Potosi\, MX
UID:20260517T000000Z-27465-orhansemih16@gmail.com
URL:https://dragon-productions.eu
DTSTART;VALUE=DATE-TIME;TZID=GMT:20260517T000000Z
DTEND;VALUE=DATE-TIME;TZID=GMT:20260517T000000Z
DTSTAMP:20260420T123215Z
END:VEVENT
BEGIN:VEVENT
SUMMARY:Grave at Mystic Festival
DESCRIPTION:
LOCATION:Mystic Festival\, Gdansk\, PL
UID:20260603T160000Z-27248-orhansemih16@gmail.com
URL:https://dragon-productions.eu
DTSTART;VALUE=DATE-TIME;TZID=GMT:20260603T160000Z
DTEND;VALUE=DATE-TIME;TZID=GMT:20260606T160000Z
DTSTAMP:20260420T123215Z
END:VEVENT
BEGIN:VEVENT
SUMMARY:Grave at Nummirock
DESCRIPTION:
LOCATION:Nummirock\, Kauhajoen\, FI
UID:20260618T000000Z-27437-orhansemih16@gmail.com
URL:https://dragon-productions.eu
DTSTART;VALUE=DATE-TIME;TZID=GMT:20260618T000000Z
DTEND;VALUE=DATE-TIME;TZID=GMT:20260618T000000Z
DTSTAMP:20260420T123215Z
END:VEVENT
BEGIN:VEVENT
SUMMARY:Grave at In Flammen Open Air
DESCRIPTION:
LOCATION:In Flammen Open Air\, Torgau\, DE
UID:20260710T000000Z-27436-orhansemih16@gmail.com
URL:https://dragon-productions.eu
DTSTART;VALUE=DATE-TIME;TZID=GMT:20260710T000000Z
DTEND;VALUE=DATE-TIME;TZID=GMT:20260710T000000Z
DTSTAMP:20260420T123215Z
END:VEVENT
BEGIN:VEVENT
SUMMARY:Grave at Brutal Assault
DESCRIPTION:
LOCATION:Brutal Assault\, Jaromer\, CZ
UID:20260805T160000Z-27264-orhansemih16@gmail.com
URL:https://dragon-productions.eu
DTSTART;VALUE=DATE-TIME;TZID=GMT:20260805T160000Z
DTEND;VALUE=DATE-TIME;TZID=GMT:20260808T160000Z
DTSTAMP:20260420T123215Z
END:VEVENT
BEGIN:VEVENT
SUMMARY:Grave at Rock & Rul
DESCRIPTION:
LOCATION:Rock & Rul\, Aarhus\, DK
UID:20260814T000000Z-27487-orhansemih16@gmail.com
URL:https://dragon-productions.eu
DTSTART;VALUE=DATE-TIME;TZID=GMT:20260814T000000Z
DTEND;VALUE=DATE-TIME;TZID=GMT:20260814T000000Z
DTSTAMP:20260420T123215Z
END:VEVENT
BEGIN:VEVENT
SUMMARY:Grave at Motocultor Festival
DESCRIPTION:
LOCATION:Motocultor Festival\, Carhaix\, FR
UID:20260815T000000Z-27438-orhansemih16@gmail.com
URL:https://dragon-productions.eu
DTSTART;VALUE=DATE-TIME;TZID=GMT:20260815T000000Z
DTEND;VALUE=DATE-TIME;TZID=GMT:20260815T000000Z
DTSTAMP:20260420T123215Z
END:VEVENT
BEGIN:VEVENT
SUMMARY:Grave at Debaser Strand
DESCRIPTION:
LOCATION:Debaser Strand\, Stockholm\, SE
UID:20261016T000000Z-27489-orhansemih16@gmail.com
URL:https://dragon-productions.eu
DTSTART;VALUE=DATE-TIME;TZID=GMT:20261016T000000Z
DTEND;VALUE=DATE-TIME;TZID=GMT:20261016T000000Z
DTSTAMP:20260420T123215Z
END:VEVENT
BEGIN:VEVENT
SUMMARY:Grave at Pustervik
DESCRIPTION:
LOCATION:Pustervik\, Gothenburg\, SE
UID:20261017T000000Z-27488-orhansemih16@gmail.com
URL:https://dragon-productions.eu
DTSTART;VALUE=DATE-TIME;TZID=GMT:20261017T000000Z
DTEND;VALUE=DATE-TIME;TZID=GMT:20261017T000000Z
DTSTAMP:20260420T123215Z
END:VEVENT
END:VCALENDAR