BEGIN:VCALENDAR
VERSION:2.0
X-WR-CALNAME: Triptykon
PRODID:GIGPRESS 2.0 WORDPRESS PLUGIN
CALSCALE:GREGORIAN
X-WR-TIMEZONE:Etc/GMT
METHOD:PUBLISH
BEGIN:VTIMEZONE
TZID:GMT
BEGIN:STANDARD
DTSTART:20071028T010000
TZOFFSETTO:+0000
TZOFFSETFROM:+0000
END:STANDARD
END:VTIMEZONE
BEGIN:VEVENT
SUMMARY:Triptykon at Wacken Open Air
DESCRIPTION:
LOCATION:Wacken Open Air\, Wacken\, DE
UID:20260729T160000Z-27111-orhansemih16@gmail.com
URL:https://dragon-productions.eu
DTSTART;VALUE=DATE-TIME;TZID=GMT:20260729T160000Z
DTEND;VALUE=DATE-TIME;TZID=GMT:20260801T160000Z
DTSTAMP:20260420T123144Z
END:VEVENT
BEGIN:VEVENT
SUMMARY:Triptykon at Brutal Assault
DESCRIPTION:
LOCATION:Brutal Assault\, Jaromer\, CZ
UID:20260805T160000Z-27136-orhansemih16@gmail.com
URL:https://dragon-productions.eu
DTSTART;VALUE=DATE-TIME;TZID=GMT:20260805T160000Z
DTEND;VALUE=DATE-TIME;TZID=GMT:20260808T160000Z
DTSTAMP:20260420T123144Z
END:VEVENT
BEGIN:VEVENT
SUMMARY:Triptykon at Hellsinki Metal Festival
DESCRIPTION:
LOCATION:Hellsinki Metal Festival\, Helsinki\, FI
UID:20260807T160000Z-27228-orhansemih16@gmail.com
URL:https://dragon-productions.eu
DTSTART;VALUE=DATE-TIME;TZID=GMT:20260807T160000Z
DTEND;VALUE=DATE-TIME;TZID=GMT:20260808T160000Z
DTSTAMP:20260420T123144Z
END:VEVENT
BEGIN:VEVENT
SUMMARY:Triptykon at Damnation Festival
DESCRIPTION:
LOCATION:Damnation Festival\, Manchester\, UK
UID:20261108T010000Z-27493-orhansemih16@gmail.com
URL:https://dragon-productions.eu
DTSTART;VALUE=DATE-TIME;TZID=GMT:20261108T010000Z
DTEND;VALUE=DATE-TIME;TZID=GMT:20261108T010000Z
DTSTAMP:20260420T123144Z
END:VEVENT
END:VCALENDAR