BEGIN:VCALENDAR
VERSION:2.0
X-WR-CALNAME: Cobra Spell
PRODID:GIGPRESS 2.0 WORDPRESS PLUGIN
CALSCALE:GREGORIAN
X-WR-TIMEZONE:Etc/GMT
METHOD:PUBLISH
BEGIN:VTIMEZONE
TZID:GMT
BEGIN:STANDARD
DTSTART:20071028T010000
TZOFFSETTO:+0000
TZOFFSETFROM:+0000
END:STANDARD
END:VTIMEZONE
BEGIN:VEVENT
SUMMARY:Cobra Spell at Bangers Open Air
DESCRIPTION:
LOCATION:Bangers Open Air\, Sao Paulo\, BR
UID:20260425T160000Z-27230-orhansemih16@gmail.com
URL:https://dragon-productions.eu
DTSTART;VALUE=DATE-TIME;TZID=GMT:20260425T160000Z
DTEND;VALUE=DATE-TIME;TZID=GMT:20260426T160000Z
DTSTAMP:20260420T123139Z
END:VEVENT
BEGIN:VEVENT
SUMMARY:Cobra Spell at Bangers Open Air
DESCRIPTION:
LOCATION:Bangers Open Air\, Sao Paulo\, BR
UID:20260426T160000Z-27276-orhansemih16@gmail.com
URL:https://dragon-productions.eu
DTSTART;VALUE=DATE-TIME;TZID=GMT:20260426T160000Z
DTEND;VALUE=DATE-TIME;TZID=GMT:20260426T160000Z
DTSTAMP:20260420T123139Z
END:VEVENT
BEGIN:VEVENT
SUMMARY:Cobra Spell at A Chance For Metal Festival
DESCRIPTION:
LOCATION:A Chance For Metal Festival\, Andernach\, DE
UID:20260502T160000Z-27118-orhansemih16@gmail.com
URL:https://dragon-productions.eu
DTSTART;VALUE=DATE-TIME;TZID=GMT:20260502T160000Z
DTEND;VALUE=DATE-TIME;TZID=GMT:20260502T160000Z
DTSTAMP:20260420T123139Z
END:VEVENT
BEGIN:VEVENT
SUMMARY:Cobra Spell at Rock & Metal Day'z
DESCRIPTION:
LOCATION:Rock & Metal Day'z\, Oschersleben\, DE
UID:20260627T160000Z-27099-orhansemih16@gmail.com
URL:https://dragon-productions.eu
DTSTART;VALUE=DATE-TIME;TZID=GMT:20260627T160000Z
DTEND;VALUE=DATE-TIME;TZID=GMT:20260627T160000Z
DTSTAMP:20260420T123139Z
END:VEVENT
BEGIN:VEVENT
SUMMARY:Cobra Spell at Rvbang Festival
DESCRIPTION:
LOCATION:Rvbang Festival\, Balingen\, DE
UID:20260710T160000Z-27100-orhansemih16@gmail.com
URL:https://dragon-productions.eu
DTSTART;VALUE=DATE-TIME;TZID=GMT:20260710T160000Z
DTEND;VALUE=DATE-TIME;TZID=GMT:20260710T160000Z
DTSTAMP:20260420T123139Z
END:VEVENT
BEGIN:VEVENT
SUMMARY:Cobra Spell at Maid of Stone Festival
DESCRIPTION:
LOCATION:Maid of Stone Festival\, Maidstone\, UK
UID:20260718T160000Z-27218-orhansemih16@gmail.com
URL:https://dragon-productions.eu
DTSTART;VALUE=DATE-TIME;TZID=GMT:20260718T160000Z
DTEND;VALUE=DATE-TIME;TZID=GMT:20260718T160000Z
DTSTAMP:20260420T123139Z
END:VEVENT
END:VCALENDAR