BEGIN:VCALENDAR
VERSION:2.0
X-WR-CALNAME: Primordial
PRODID:GIGPRESS 2.0 WORDPRESS PLUGIN
CALSCALE:GREGORIAN
X-WR-TIMEZONE:Etc/GMT
METHOD:PUBLISH
BEGIN:VTIMEZONE
TZID:GMT
BEGIN:STANDARD
DTSTART:20071028T010000
TZOFFSETTO:+0000
TZOFFSETFROM:+0000
END:STANDARD
END:VTIMEZONE
BEGIN:VEVENT
SUMMARY:Primordial at Mystic Festival
DESCRIPTION:
LOCATION:Mystic Festival\, Gdansk\, PL
UID:20260603T160000Z-27267-orhansemih16@gmail.com
URL:https://dragon-productions.eu
DTSTART;VALUE=DATE-TIME;TZID=GMT:20260603T160000Z
DTEND;VALUE=DATE-TIME;TZID=GMT:20260606T160000Z
DTSTAMP:20260420T123005Z
END:VEVENT
BEGIN:VEVENT
SUMMARY:Primordial at In Flammen Open Air
DESCRIPTION:
LOCATION:In Flammen Open Air\, Torgau\, DE
UID:20260710T000000Z-27443-orhansemih16@gmail.com
URL:https://dragon-productions.eu
DTSTART;VALUE=DATE-TIME;TZID=GMT:20260710T000000Z
DTEND;VALUE=DATE-TIME;TZID=GMT:20260710T000000Z
DTSTAMP:20260420T123005Z
END:VEVENT
BEGIN:VEVENT
SUMMARY:Primordial at Nightshade Frequencies
DESCRIPTION:
LOCATION:Nightshade Frequencies\, Stockholm\, SE
UID:20260905T000000Z-27458-orhansemih16@gmail.com
URL:https://dragon-productions.eu
DTSTART;VALUE=DATE-TIME;TZID=GMT:20260905T000000Z
DTEND;VALUE=DATE-TIME;TZID=GMT:20260905T000000Z
DTSTAMP:20260420T123005Z
END:VEVENT
BEGIN:VEVENT
SUMMARY:Primordial at Rock Hard Festival Greece
DESCRIPTION:
LOCATION:Rock Hard Festival Greece\, Athens\, GR
UID:20260911T000000Z-27480-orhansemih16@gmail.com
URL:https://dragon-productions.eu
DTSTART;VALUE=DATE-TIME;TZID=GMT:20260911T000000Z
DTEND;VALUE=DATE-TIME;TZID=GMT:20260911T000000Z
DTSTAMP:20260420T123005Z
END:VEVENT
END:VCALENDAR