BEGIN:VCALENDAR
VERSION:2.0
PRODID:GIGPRESS 2.0 WORDPRESS PLUGIN
CALSCALE:GREGORIAN
X-WR-TIMEZONE:Etc/GMT
METHOD:PUBLISH
BEGIN:VTIMEZONE
TZID:GMT
BEGIN:STANDARD
DTSTART:20071028T010000
TZOFFSETTO:+0000
TZOFFSETFROM:+0000
END:STANDARD
END:VTIMEZONE
BEGIN:VEVENT
SUMMARY:Hirax at Rock Hard Festival
DESCRIPTION:
LOCATION:Rock Hard Festival\, Gelsenkirchen\, DE
UID:20260525T160000Z-27127-orhansemih16@gmail.com
URL:https://dragon-productions.eu
DTSTART;VALUE=DATE-TIME;TZID=GMT:20260525T160000Z
DTEND;VALUE=DATE-TIME;TZID=GMT:20260525T160000Z
DTSTAMP:20260420T123144Z
END:VEVENT
END:VCALENDAR