BEGIN:VCALENDAR
VERSION:2.0
X-WR-CALNAME: Coroner
PRODID:GIGPRESS 2.0 WORDPRESS PLUGIN
CALSCALE:GREGORIAN
X-WR-TIMEZONE:Etc/GMT
METHOD:PUBLISH
BEGIN:VTIMEZONE
TZID:GMT
BEGIN:STANDARD
DTSTART:20071028T010000
TZOFFSETTO:+0000
TZOFFSETFROM:+0000
END:STANDARD
END:VTIMEZONE
BEGIN:VEVENT
SUMMARY:Coroner at Rock Hard Festival
DESCRIPTION:
LOCATION:Rock Hard Festival\, Gelsenkirchen\, DE
UID:20260522T160000Z-27119-orhansemih16@gmail.com
URL:https://dragon-productions.eu
DTSTART;VALUE=DATE-TIME;TZID=GMT:20260522T160000Z
DTEND;VALUE=DATE-TIME;TZID=GMT:20260522T160000Z
DTSTAMP:20260421T084207Z
END:VEVENT
BEGIN:VEVENT
SUMMARY:Coroner at Sweden Rock Festival
DESCRIPTION:
LOCATION:Sweden Rock Festival\, Sölvesborg\, SE
UID:20260603T000000Z-27456-orhansemih16@gmail.com
URL:https://dragon-productions.eu
DTSTART;VALUE=DATE-TIME;TZID=GMT:20260603T000000Z
DTEND;VALUE=DATE-TIME;TZID=GMT:20260603T000000Z
DTSTAMP:20260421T084207Z
END:VEVENT
BEGIN:VEVENT
SUMMARY:Coroner at Mystic Festival
DESCRIPTION:
LOCATION:Mystic Festival\, Gdansk\, PL
UID:20260605T160000Z-27219-orhansemih16@gmail.com
URL:https://dragon-productions.eu
DTSTART;VALUE=DATE-TIME;TZID=GMT:20260605T160000Z
DTEND;VALUE=DATE-TIME;TZID=GMT:20260605T160000Z
DTSTAMP:20260421T084207Z
END:VEVENT
BEGIN:VEVENT
SUMMARY:Coroner at Rockstadt Extreme Fest
DESCRIPTION:
LOCATION:Rockstadt Extreme Fest\, Rasnov\, RO
UID:20260730T160000Z-27277-orhansemih16@gmail.com
URL:https://dragon-productions.eu
DTSTART;VALUE=DATE-TIME;TZID=GMT:20260730T160000Z
DTEND;VALUE=DATE-TIME;TZID=GMT:20260730T160000Z
DTSTAMP:20260421T084207Z
END:VEVENT
BEGIN:VEVENT
SUMMARY:Coroner at ALCATRAZ Fest
DESCRIPTION:
LOCATION:ALCATRAZ Fest\, Kortrijk\, BE
UID:20260808T160000Z-27120-orhansemih16@gmail.com
URL:https://dragon-productions.eu
DTSTART;VALUE=DATE-TIME;TZID=GMT:20260808T160000Z
DTEND;VALUE=DATE-TIME;TZID=GMT:20260808T160000Z
DTSTAMP:20260421T084207Z
END:VEVENT
BEGIN:VEVENT
SUMMARY:Coroner at Motocultor Festival
DESCRIPTION:
LOCATION:Motocultor Festival\, Carhaix\, FR
UID:20260814T000000Z-27429-orhansemih16@gmail.com
URL:https://dragon-productions.eu
DTSTART;VALUE=DATE-TIME;TZID=GMT:20260814T000000Z
DTEND;VALUE=DATE-TIME;TZID=GMT:20260814T000000Z
DTSTAMP:20260421T084207Z
END:VEVENT
BEGIN:VEVENT
SUMMARY:Coroner at Metalitalia Festival
DESCRIPTION:
LOCATION:Metalitalia Festival\, Milano\, IT
UID:20260927T160000Z-27278-orhansemih16@gmail.com
URL:https://dragon-productions.eu
DTSTART;VALUE=DATE-TIME;TZID=GMT:20260927T160000Z
DTEND;VALUE=DATE-TIME;TZID=GMT:20260927T160000Z
DTSTAMP:20260421T084207Z
END:VEVENT
END:VCALENDAR