BEGIN:VCALENDAR
VERSION:2.0
X-WR-CALNAME: Stellvris
PRODID:GIGPRESS 2.0 WORDPRESS PLUGIN
CALSCALE:GREGORIAN
X-WR-TIMEZONE:Etc/GMT
METHOD:PUBLISH
BEGIN:VTIMEZONE
TZID:GMT
BEGIN:STANDARD
DTSTART:20071028T010000
TZOFFSETTO:+0000
TZOFFSETFROM:+0000
END:STANDARD
END:VTIMEZONE
BEGIN:VEVENT
SUMMARY:Stellvris at Ressurection Fest
DESCRIPTION:
LOCATION:Ressurection Fest\, Viveiro\, ES
UID:20260701T160000Z-27263-orhansemih16@gmail.com
URL:https://dragon-productions.eu
DTSTART;VALUE=DATE-TIME;TZID=GMT:20260701T160000Z
DTEND;VALUE=DATE-TIME;TZID=GMT:20260704T160000Z
DTSTAMP:20260420T123215Z
END:VEVENT
BEGIN:VEVENT
SUMMARY:Stellvris at Bautz Festival
DESCRIPTION:
LOCATION:Bautz Festival\, Lüdenscheid\, DE
UID:20260829T000000Z-27444-orhansemih16@gmail.com
URL:https://dragon-productions.eu
DTSTART;VALUE=DATE-TIME;TZID=GMT:20260829T000000Z
DTEND;VALUE=DATE-TIME;TZID=GMT:20260829T000000Z
DTSTAMP:20260420T123215Z
END:VEVENT
END:VCALENDAR