BEGIN:VCALENDAR
VERSION:2.0
X-WR-CALNAME: Roy Khan
PRODID:GIGPRESS 2.0 WORDPRESS PLUGIN
CALSCALE:GREGORIAN
X-WR-TIMEZONE:Etc/GMT
METHOD:PUBLISH
BEGIN:VTIMEZONE
TZID:GMT
BEGIN:STANDARD
DTSTART:20071028T010000
TZOFFSETTO:+0000
TZOFFSETFROM:+0000
END:STANDARD
END:VTIMEZONE
BEGIN:VEVENT
SUMMARY:Roy Khan at Sweden Rock Festival
DESCRIPTION:
LOCATION:Sweden Rock Festival\, Sölvesborg\, SE
UID:20260603T160000Z-27130-orhansemih16@gmail.com
URL:https://dragon-productions.eu
DTSTART;VALUE=DATE-TIME;TZID=GMT:20260603T160000Z
DTEND;VALUE=DATE-TIME;TZID=GMT:20260603T160000Z
DTSTAMP:20260420T123130Z
END:VEVENT
BEGIN:VEVENT
SUMMARY:Roy Khan at Brainstorm Festival
DESCRIPTION:
LOCATION:Brainstorm Festival\, Apeldoorn\, NL
UID:20261107T170000Z-27287-orhansemih16@gmail.com
URL:https://dragon-productions.eu
DTSTART;VALUE=DATE-TIME;TZID=GMT:20261107T170000Z
DTEND;VALUE=DATE-TIME;TZID=GMT:20261107T170000Z
DTSTAMP:20260420T123130Z
END:VEVENT
END:VCALENDAR