BEGIN:VCALENDAR
VERSION:2.0
X-WR-CALNAME: Sanctuary
PRODID:GIGPRESS 2.0 WORDPRESS PLUGIN
CALSCALE:GREGORIAN
X-WR-TIMEZONE:Etc/GMT
METHOD:PUBLISH
BEGIN:VTIMEZONE
TZID:GMT
BEGIN:STANDARD
DTSTART:20071028T010000
TZOFFSETTO:+0000
TZOFFSETFROM:+0000
END:STANDARD
END:VTIMEZONE
BEGIN:VEVENT
SUMMARY:Sanctuary at Piraeus Club Academy
DESCRIPTION:
LOCATION:Piraeus Club Academy\, Athen\, GR
UID:20260422T000000Z-27421-orhansemih16@gmail.com
URL:https://dragon-productions.eu
DTSTART;VALUE=DATE-TIME;TZID=GMT:20260422T000000Z
DTEND;VALUE=DATE-TIME;TZID=GMT:20260422T000000Z
DTSTAMP:20260420T123255Z
END:VEVENT
BEGIN:VEVENT
SUMMARY:Sanctuary at Iduna (Drachten)
DESCRIPTION:
LOCATION:Iduna (Drachten)\, Drachten\, NL
UID:20260425T000000Z-27422-orhansemih16@gmail.com
URL:https://dragon-productions.eu
DTSTART;VALUE=DATE-TIME;TZID=GMT:20260425T000000Z
DTEND;VALUE=DATE-TIME;TZID=GMT:20260425T000000Z
DTSTAMP:20260420T123255Z
END:VEVENT
BEGIN:VEVENT
SUMMARY:Sanctuary at Logo
DESCRIPTION:
LOCATION:Logo\, Hamburg\, DE
UID:20260426T000000Z-27423-orhansemih16@gmail.com
URL:https://dragon-productions.eu
DTSTART;VALUE=DATE-TIME;TZID=GMT:20260426T000000Z
DTEND;VALUE=DATE-TIME;TZID=GMT:20260426T000000Z
DTSTAMP:20260420T123255Z
END:VEVENT
BEGIN:VEVENT
SUMMARY:Sanctuary at The Underworld
DESCRIPTION:
LOCATION:The Underworld\, London\, UK
UID:20260428T000000Z-27424-orhansemih16@gmail.com
URL:https://dragon-productions.eu
DTSTART;VALUE=DATE-TIME;TZID=GMT:20260428T000000Z
DTEND;VALUE=DATE-TIME;TZID=GMT:20260428T000000Z
DTSTAMP:20260420T123255Z
END:VEVENT
BEGIN:VEVENT
SUMMARY:Sanctuary at DVG Club
DESCRIPTION:
LOCATION:DVG Club\, Kortjik\, BE
UID:20260429T000000Z-27425-orhansemih16@gmail.com
URL:https://dragon-productions.eu
DTSTART;VALUE=DATE-TIME;TZID=GMT:20260429T000000Z
DTEND;VALUE=DATE-TIME;TZID=GMT:20260429T000000Z
DTSTAMP:20260420T123255Z
END:VEVENT
BEGIN:VEVENT
SUMMARY:Sanctuary at Boerderij
DESCRIPTION:
LOCATION:Boerderij\, Zoetermeer\, NL
UID:20260501T000000Z-27426-orhansemih16@gmail.com
URL:https://dragon-productions.eu
DTSTART;VALUE=DATE-TIME;TZID=GMT:20260501T000000Z
DTEND;VALUE=DATE-TIME;TZID=GMT:20260501T000000Z
DTSTAMP:20260420T123255Z
END:VEVENT
BEGIN:VEVENT
SUMMARY:Sanctuary at Andernacher Metal Days
DESCRIPTION:
LOCATION:Andernacher Metal Days\, Andernach\, DE
UID:20260502T000000Z-27427-orhansemih16@gmail.com
URL:https://dragon-productions.eu
DTSTART;VALUE=DATE-TIME;TZID=GMT:20260502T000000Z
DTEND;VALUE=DATE-TIME;TZID=GMT:20260502T000000Z
DTSTAMP:20260420T123255Z
END:VEVENT
END:VCALENDAR